Workbook

Sheet Payment Request Form
A3: See instructions on reverse PAYMENT REQUEST FORM
A4: See instructions on reverse.
A12: a. | B12: Grant Project Amount
A13: b. | B13: Funds Requested To Date
A14: c. | B14: Available (a. minus b.) | H14: =H12-H13 -> 0
A16: d. | B16: Amount Of This Request | H16: ='Project Expenditure Form'!J33 -> 0
A17: e. | B17: Remaining Funds to be Requested After This Payment (c. minus d.) | H17: =H14-H16 -> 0
A27: 9. By my signature below, I certify that I have full authority to execute this payment request on behalf of the Grantee. I declare under penalty of perjury, under the laws of the State of California, that this report, and any accompanying documents, for the above-mentioned Grant are true and correct to the best of my knowledge, and all disbursements have been made for the purposes and conditions as outlined in the Grant Agreement. In addition, I certify that all invoices and receipts for all project expenditures from all funding sources will be retained and made available in the event of any future State Audits.
A31: FOR STATE OF CALIFORNIA NATURAL RESOURCES AGENCY USE ONLY
A32: Withhold Funds: $_________________________ | C32: Requested: | D32: $ | I32: Approved Amount: | L32: $
C33: Less Amt: | D33: $ | F33: Code:
F34: FY 0540-751-PCA Proj #
A38: PAYMENT REQUESTS
B39: One Payment Request Form must be submitted for each grant project.
A41: The following instructions are keyed to corresponding items on the Payment Request Form:
A43: 1. | B43: PROJECT NUMBER — The number assigned by the State to this project.
A45: 2. | B45: DATE RANGE OF EXPENDITURES — List by month and year the start and end dates
B46: in which the expenditures occurred for which payment is requested.
A48: 3. | B48: GRANTEE — Grantee name as shown on the grant agreement.
A50: 4. | B50: PROJECT TITLE — Title of project for which payment is requested.
A52: 5. | B52: TYPE OF PAYMENT — Check appropriate box. Please note that Advance Payments and
B53: Final Payments require additional documentation. Please see your Grant Agreement for details.
A55: 6. | B55: PAYMENT REQUEST NUMBER — Indicate the number of payment requests.
A57: 7. | B57: PAYMENT INFORMATION
B58: *Please note that all payment requests are subject to a ten percent withhold amount to be paid upon project
B59: completion. The payment information entered on lines 7.a-e should not reflect current or previous 10% withhold amounts.
B61: a. Grant Project Amount — The amount of state grant funds assigned to this project.
B63: b. Funds Requested to Date — Total amount already requested for this project.
B65: c. Available — (a. minus b.)
B67: d. Amount of This Payment Request — Amount currently requested.
B69: e. Remaining Funds After This Payment — (c. minus d.)
A71: 8. | B71: SEND PAYMENT TO — Payee name, address and contact person. Please include the
B72: email and phone number of the contact person. If payment is to be sent directly to an escrow
B73: company for acquisition projects, provide escrow company name and escrow account number.
A75: 9. | B75: SIGNATURE OF PERSON AUTHORIZED IN RESOLUTION — Must be an original
B76: signature by the person authorized in the application resolution. If the application
B77: resolution authorizes a position, the person who currently holds that position must sign.
A79: 10. | B79: REQUIRED ATTACHMENTS -
B80: The following documents must be submitted with the Payment Request Form:
B81: a. Itemized List of Project Expenditures (all payment requests)
...

Sheet Payment Tracking Sheet
A1: ='Payment Request Form'!$A$6
A2: ='Payment Request Form'!$A$7
A3: ='Payment Request Form'!A8:P8
A4: PAYMENT TRACKING SPREAD SHEET
A5: Task | B5: Project Element | C5: Resources Agency Grant | D5: PAYMENT REQUEST #1 | E5: Disallowed REQUEST #1 | F5: BUDGET REVISION | G5: REVISED GRANT TOTAL | H5: PAYMENT REQUEST #2 | I5: Disallowed REQUEST #2 | J5: BUDGET REVISION | K5: REVISED GRANT TOTAL | L5: PAYMENT REQUEST #3 | M5: Disallowed REQUEST #3 | N5: BUDGET REVISION | O5: REVISED GRANT TOTAL | P5: PAYMENT REQUEST #4 | Q5: Disallowed REQUEST #4 | R5: BUDGET REVISION | S5: REVISED GRANT TOTAL | T5: PAYMENT REQUEST #5 | U5: Disallowed REQUEST #5 | V5: BUDGET REVISION | W5: REVISED GRANT TOTAL | X5: PAYMENT REQUEST #6 | Y5: Disallowed REQUEST #6 | Z5: BUDGET REVISION | AA5: REVISED GRANT TOTAL | AB5: PAYMENT REQUEST #7 | AC5: Disallowed REQUEST #7 | AD5: BUDGET REVISION | AE5: REVISED GRANT TOTAL | AF5: PAYMENT REQUEST #8 | AG5: Disallowed REQUEST #8 | AH5: BUDGET REVISION | AI5: REVISED GRANT TOTAL | AJ5: PAYMENT REQUEST #9 | AK5: Disallowed REQUEST #9 | AL5: BUDGET REVISION | AM5: REVISED GRANT TOTAL | AN5: PAYMENT REQUEST #10 | AO5: Disallowed REQUEST #10 | AP5: BUDGET REVISION | AQ5: REVISED GRANT TOTAL | AR5: TOTAL REQUESTED TO DATE | AS5: GRANT FUNDS LEFT TO BE REQUESTED
A6: 1
AR7: =SUM(D7:E7)+SUM(H7:I7)+SUM(L7:M7)+SUM(P7:Q7)+SUM(T7:U7)+SUM(X7:Y7)+SUM(AB7:AC7)+SUM(AF7:AG7)+SUM(AJ7:AK7)+SUM(AN7:AO7) -> 0 | AS7: =C7-AR7 -> 0
AR8: =SUM(D8:E8)+SUM(H8:I8)+SUM(L8:M8)+SUM(P8:Q8)+SUM(T8:U8)+SUM(X8:Y8)+SUM(AB8:AC8)+SUM(AF8:AG8)+SUM(AJ8:AK8)+SUM(AN8:AO8) -> 0 | AS8: =C8-AR8 -> 0
AR9: =SUM(D9:E9)+SUM(H9:I9)+SUM(L9:M9)+SUM(P9:Q9)+SUM(T9:U9)+SUM(X9:Y9)+SUM(AB9:AC9)+SUM(AF9:AG9)+SUM(AJ9:AK9)+SUM(AN9:AO9) -> 0 | AS9: =C9-AR9 -> 0
AR10: =SUM(D10:E10)+SUM(H10:I10)+SUM(L10:M10)+SUM(P10:Q10)+SUM(T10:U10)+SUM(X10:Y10)+SUM(AB10:AC10)+SUM(AF10:AG10)+SUM(AJ10:AK10)+SUM(AN10:AO10) -> 0 | AS10: =C10-AR10 -> 0
AR11: =SUM(D11:E11)+SUM(H11:I11)+SUM(L11:M11)+SUM(P11:Q11)+SUM(T11:U11)+SUM(X11:Y11)+SUM(AB11:AC11)+SUM(AF11:AG11)+SUM(AJ11:AK11)+SUM(AN11:AO11) -> 0 | AS11: =C11-AR11 -> 0
AR12: =SUM(D12:E12)+SUM(H12:I12)+SUM(L12:M12)+SUM(P12:Q12)+SUM(T12:U12)+SUM(X12:Y12)+SUM(AB12:AC12)+SUM(AF12:AG12)+SUM(AJ12:AK12)+SUM(AN12:AO12) -> 0 | AS12: =C12-AR12 -> 0
AR13: =SUM(D13:E13)+SUM(H13:I13)+SUM(L13:M13)+SUM(P13:Q13)+SUM(T13:U13)+SUM(X13:Y13)+SUM(AB13:AC13)+SUM(AF13:AG13)+SUM(AJ13:AK13)+SUM(AN13:AO13) -> 0 | AS13: =C13-AR13 -> 0
B14: SUBTOTAL | C14: =SUM(C7:C13) -> 0 | D14: =SUM(D7:D13) -> 0 | E14: =SUM(E7:E13) -> 0 | F14: =SUM(F7:F13) -> 0 | G14: =SUM(G7:G13) -> 0 | H14: =SUM(H7:H13) -> 0 | I14: =SUM(I7:I13) -> 0 | J14: =SUM(J7:J13) -> 0 | ... AO14: =SUM(AO7:AO13) -> 0 | AP14: =AP7+AP8+AP9+AP10+AP11+AP12+AP13 -> 0 | AQ14: =AQ7+AQ8+AQ9+AQ10+AQ11+AQ12+AQ13 -> 0 | AR14: =SUM(AR7:AR13) -> 0 | AS14: =SUM(AS7:AS13) -> 0
A15: 2
AR16: =SUM(D16:E16)+SUM(H16:I16)+SUM(L16:M16)+SUM(P16:Q16)+SUM(T16:U16)+SUM(X16:Y16)+SUM(AB16:AC16)+SUM(AF16:AG16)+SUM(AJ16:AK16)+SUM(AN16:AO16) -> 0 | AS16: =C16-AR16 -> 0
AR17: =SUM(D17:E17)+SUM(H17:I17)+SUM(L17:M17)+SUM(P17:Q17)+SUM(T17:U17)+SUM(X17:Y17)+SUM(AB17:AC17)+SUM(AF17:AG17)+SUM(AJ17:AK17)+SUM(AN17:AO17) -> 0 | AS17: =C17-AR17 -> 0
AR18: =SUM(D18:E18)+SUM(H18:I18)+SUM(L18:M18)+SUM(P18:Q18)+SUM(T18:U18)+SUM(X18:Y18)+SUM(AB18:AC18)+SUM(AF18:AG18)+SUM(AJ18:AK18)+SUM(AN18:AO18) -> 0 | AS18: =C18-AR18 -> 0
AR19: =SUM(D19:E19)+SUM(H19:I19)+SUM(L19:M19)+SUM(P19:Q19)+SUM(T19:U19)+SUM(X19:Y19)+SUM(AB19:AC19)+SUM(AF19:AG19)+SUM(AJ19:AK19)+SUM(AN19:AO19) -> 0 | AS19: =C19-AR19 -> 0
AR20: =SUM(D20:E20)+SUM(H20:I20)+SUM(L20:M20)+SUM(P20:Q20)+SUM(T20:U20)+SUM(X20:Y20)+SUM(AB20:AC20)+SUM(AF20:AG20)+SUM(AJ20:AK20)+SUM(AN20:AO20) -> 0 | AS20: =C20-AR20 -> 0
AR21: =SUM(D21:E21)+SUM(H21:I21)+SUM(L21:M21)+SUM(P21:Q21)+SUM(T21:U21)+SUM(X21:Y21)+SUM(AB21:AC21)+SUM(AF21:AG21)+SUM(AJ21:AK21)+SUM(AN21:AO21) -> 0 | AS21: =C21-AR21 -> 0
AR22: =SUM(D22:E22)+SUM(H22:I22)+SUM(L22:M22)+SUM(P22:Q22)+SUM(T22:U22)+SUM(X22:Y22)+SUM(AB22:AC22)+SUM(AF22:AG22)+SUM(AJ22:AK22)+SUM(AN22:AO22) -> 0 | AS22: =C22-AR22 -> 0
B23: SUBTOTAL | C23: =SUM(C16:C22) -> 0 | D23: =SUM(D16:D22) -> 0 | E23: =SUM(E16:E22) -> 0 | F23: =SUM(F16:F22) -> 0 | G23: =SUM(G16:G22) -> 0 | H23: =SUM(H16:H22) -> 0 | I23: =SUM(I16:I22) -> 0 | J23: =SUM(J16:J22) -> 0 | ... AS23: =SUM(AS16:AS22) -> 0
A24: 3
AR25: =SUM(D25:E25)+SUM(H25:I25)+SUM(L25:M25)+SUM(P25:Q25)+SUM(T25:U25)+SUM(X25:Y25)+SUM(AB25:AC25)+SUM(AF25:AG25)+SUM(AJ25:AK25)+SUM(AN25:AO25) -> 0 | AS25: =C25-AR25 -> 0
AR26: =SUM(D26:E26)+SUM(H26:I26)+SUM(L26:M26)+SUM(P26:Q26)+SUM(T26:U26)+SUM(X26:Y26)+SUM(AB26:AC26)+SUM(AF26:AG26)+SUM(AJ26:AK26)+SUM(AN26:AO26) -> 0 | AS26: =C26-AR26 -> 0
AR27: =SUM(D27:E27)+SUM(H27:I27)+SUM(L27:M27)+SUM(P27:Q27)+SUM(T27:U27)+SUM(X27:Y27)+SUM(AB27:AC27)+SUM(AF27:AG27)+SUM(AJ27:AK27)+SUM(AN27:AO27) -> 0 | AS27: =C27-AR27 -> 0
AR28: =SUM(D28:E28)+SUM(H28:I28)+SUM(L28:M28)+SUM(P28:Q28)+SUM(T28:U28)+SUM(X28:Y28)+SUM(AB28:AC28)+SUM(AF28:AG28)+SUM(AJ28:AK28)+SUM(AN28:AO28) -> 0 | AS28: =C28-AR28 -> 0
AR29: =SUM(D29:E29)+SUM(H29:I29)+SUM(L29:M29)+SUM(P29:Q29)+SUM(T29:U29)+SUM(X29:Y29)+SUM(AB29:AC29)+SUM(AF29:AG29)+SUM(AJ29:AK29)+SUM(AN29:AO29) -> 0 | AS29: =C29-AR29 -> 0
AR30: =SUM(D30:E30)+SUM(H30:I30)+SUM(L30:M30)+SUM(P30:Q30)+SUM(T30:U30)+SUM(X30:Y30)+SUM(AB30:AC30)+SUM(AF30:AG30)+SUM(AJ30:AK30)+SUM(AN30:AO30) -> 0 | AS30: =C30-AR30 -> 0
AR31: =SUM(D31:E31)+SUM(H31:I31)+SUM(L31:M31)+SUM(P31:Q31)+SUM(T31:U31)+SUM(X31:Y31)+SUM(AB31:AC31)+SUM(AF31:AG31)+SUM(AJ31:AK31)+SUM(AN31:AO31) -> 0 | AS31: =C31-AR31 -> 0
B32: SUBTOTAL | C32: =SUM(C25:C31) -> 0 | D32: =SUM(D25:D31) -> 0 | E32: =SUM(E25:E31) -> 0 | F32: =SUM(F25:F31) -> 0 | G32: =SUM(G25:G31) -> 0 | H32: =SUM(H25:H31) -> 0 | I32: =SUM(I25:I31) -> 0 | J32: =SUM(J25:J31) -> 0 | ... AS32: =SUM(AS25:AS31) -> 0
A33: 4
AR34: =SUM(D34:E34)+SUM(H34:I34)+SUM(L34:M34)+SUM(P34:Q34)+SUM(T34:U34)+SUM(X34:Y34)+SUM(AB34:AC34)+SUM(AF34:AG34)+SUM(AJ34:AK34)+SUM(AN34:AO34) -> 0 | AS34: =C34-AR34 -> 0
AR35: =SUM(D35:E35)+SUM(H35:I35)+SUM(L35:M35)+SUM(P35:Q35)+SUM(T35:U35)+SUM(X35:Y35)+SUM(AB35:AC35)+SUM(AF35:AG35)+SUM(AJ35:AK35)+SUM(AN35:AO35) -> 0 | AS35: =C35-AR35 -> 0
AR36: =SUM(D36:E36)+SUM(H36:I36)+SUM(L36:M36)+SUM(P36:Q36)+SUM(T36:U36)+SUM(X36:Y36)+SUM(AB36:AC36)+SUM(AF36:AG36)+SUM(AJ36:AK36)+SUM(AN36:AO36) -> 0 | AS36: =C36-AR36 -> 0
AR37: =SUM(D37:E37)+SUM(H37:I37)+SUM(L37:M37)+SUM(P37:Q37)+SUM(T37:U37)+SUM(X37:Y37)+SUM(AB37:AC37)+SUM(AF37:AG37)+SUM(AJ37:AK37)+SUM(AN37:AO37) -> 0 | AS37: =C37-AR37 -> 0
AR38: =SUM(D38:E38)+SUM(H38:I38)+SUM(L38:M38)+SUM(P38:Q38)+SUM(T38:U38)+SUM(X38:Y38)+SUM(AB38:AC38)+SUM(AF38:AG38)+SUM(AJ38:AK38)+SUM(AN38:AO38) -> 0 | AS38: =C38-AR38 -> 0
AR39: =SUM(D39:E39)+SUM(H39:I39)+SUM(L39:M39)+SUM(P39:Q39)+SUM(T39:U39)+SUM(X39:Y39)+SUM(AB39:AC39)+SUM(AF39:AG39)+SUM(AJ39:AK39)+SUM(AN39:AO39) -> 0 | AS39: =C39-AR39 -> 0
AR40: =SUM(D40:E40)+SUM(H40:I40)+SUM(L40:M40)+SUM(P40:Q40)+SUM(T40:U40)+SUM(X40:Y40)+SUM(AB40:AC40)+SUM(AF40:AG40)+SUM(AJ40:AK40)+SUM(AN40:AO40) -> 0 | AS40: =C40-AR40 -> 0
...

Sheet Project Expenditure Form
A2: PROJECT EXPENDITURE FORM
B5: Grantee Name: | D5: ='Payment Request Form'!$A$7 | H5: Date Range of Expenditures:
B6: Grant Number: | D6: ='Payment Request Form'!$A$6
B7: Project Name: | D7: ='Payment Request Form'!$A$8 | I7: Page _____ of _____
B9: PROJECT COSTS
B10: Check Number | D10: Date | F10: Recipient | H10: Budget Line Item Description | J10: Amount
H26: SUBTOTAL: | J26: =SUM(J11:J25) -> 0
H29: TOTAL LABOR COSTS (If Applicable, as Indicated on Labor Costs Form): | J29: ='Labor Cost Form'!N27 -> 0
H31: TOTAL EQUIPMENT COSTS (If Applicable, as Indicated on Equipment Costs Form): | J31: ='Equipment Cost Form'!N38 -> 0
H33: GRAND TOTAL: | J33: =J26+J29+J31 -> 0

Sheet Labor Cost Form
A2: GRANTEE LABOR COST FORM
E3: Note: This Form is Required ONLY When Using In-House Staff
B5: Grantee Name: | D5: ='Payment Request Form'!$A$7 | H5: Date Range of Expenditures:
B6: Grant Number: | D6: ='Payment Request Form'!$A$6
B7: Project Name: | D7: ='Payment Request Form'!$A$8 | L7: Page _____ of _____
B9: LABOR COST INFORMATION
D10: Dates / Pay Periods | F10: Unit / Person Performing Work | H10: Budget Line Item Description | J10: Hours | L10: Hourly Rate | N10: Amount
N11: =ROUND(J11*L11,2) -> 0
N12: =ROUND(J12*L12,2) -> 0
N13: =ROUND(J13*L13,2) -> 0
N14: =ROUND(J14*L14,2) -> 0
N15: =ROUND(J15*L15,2) -> 0
N16: =ROUND(J16*L16,2) -> 0
N17: =ROUND(J17*L17,2) -> 0
N18: =ROUND(J18*L18,2) -> 0
N19: =ROUND(J19*L19,2) -> 0
N20: =ROUND(J20*L20,2) -> 0
N21: =ROUND(J21*L21,2) -> 0
N22: =ROUND(J22*L22,2) -> 0
N23: =ROUND(J23*L23,2) -> 0
B25: As chief financial officer (or other title) I hereby certify that the employees reflected on this form have been fully compensated for the time reflected hereon. Furthermore, I hereby certify that only direct project management costs are reflected hereon, and no overhead/indirect costs are included. In-service payroll does not include a "billable rate" or administrative cost allocation. | J25: Sub-total Labor Costs (this page) | N25: =SUM(N11:N23) -> 0
B26: Signature: | G26: Date:
B27: Printed Name: | G27: Title: | J27: Total Labor Costs (all pages) | N27: =N25 -> 0

Sheet Employee Compensation Form
A1: EMPLOYEE COMPENSATION CHART
A2: Note: Hourly Compensation should match hourly rate on Grantee Labor Cost Form
A4: Grantee Name: | B4: ='Payment Request Form'!$A$7
A5: Grant Number: | B5: ='Payment Request Form'!$A$6
A6: Project Name: | B6: ='Payment Request Form'!$A$8 | J6: Page _____ of _____
A8: Employee Name | B8: Payroll Period | C8: Monthly Salary | D8: Employee Benefits (Employer paid) | I8: Employer Contributions (Employer Paid) | M8: Total Monthly Employee Compensation | N8: Hourly Compensation
D9: Health | E9: Vision | F9: Retirement | G9: Other (define) | H9: Other (define) | I9: FICA | J9: SDI | K9: SUI | L9: Other (define)
M10: =SUM(C10:L10) -> 0 | N10: =TRUNC(M10*(12/2080),2) -> 0
M11: =SUM(C11:L11) -> 0 | N11: =TRUNC(M11*(12/2080),2) -> 0
M12: =SUM(C12:L12) -> 0 | N12: =TRUNC(M12*(12/2080),2) -> 0
M13: =SUM(C13:L13) -> 0 | N13: =TRUNC(M13*(12/2080),2) -> 0
M14: =SUM(C14:L14) -> 0 | N14: =TRUNC(M14*(12/2080),2) -> 0
M15: =SUM(C15:L15) -> 0 | N15: =TRUNC(M15*(12/2080),2) -> 0
M16: =SUM(C16:L16) -> 0 | N16: =TRUNC(M16*(12/2080),2) -> 0
M17: =SUM(C17:L17) -> 0 | N17: =TRUNC(M17*(12/2080),2) -> 0
M18: =SUM(C18:L18) -> 0 | N18: =TRUNC(M18*(12/2080),2) -> 0
M19: =SUM(C19:L19) -> 0 | N19: =TRUNC(M19*(12/2080),2) -> 0
M20: =SUM(C20:L20) -> 0 | N20: =TRUNC(M20*(12/2080),2) -> 0
M21: =SUM(C21:L21) -> 0 | N21: =TRUNC(M21*(12/2080),2) -> 0
... M28: =SUM(C28:L28) -> 0 | N28: =TRUNC(M28*(12/2080),2) -> 0
A29: As Chief Financial Officer for this entity, I hereby certify that the compensation reflected hereon is correct and complete for each employee and each time period listed, and include only direct Project management costs; no overhead/indirect costs are included, and these rates to not include a "billable rate" or administrative cost allocation.
A31: Signature: | I31: Date:
A33: Printed Name: | I33: Title:
A35: *See other tabs for variations such as hourly employees

Sheet Equipment Cost Form
A2: EQUIPMENT COSTS FORM
B5: Grantee Name: | D5: ='Payment Request Form'!$A$7
B6: Grant Number: | D6: ='Payment Request Form'!$A$6
B7: Project Name: | D7: ='Payment Request Form'!$A$8 | L7: Page _____ of _____
B9: Section A:
B10: Grantee owns equipment and is charging for its use against the Grant
B11: Equipment Number | D11: Date Used | F11: Description/Type of Equipment | H11: Budget Line Item Description | J11: Number of Hours Used | L11: Rate Per Hour | N11: Amount
N12: =ROUND(J12*L12,2) -> 0
N13: =ROUND(J13*L13,2) -> 0
N14: =ROUND(J14*L14,2) -> 0
N15: =ROUND(J15*L15,2) -> 0
N16: =ROUND(J16*L16,2) -> 0
N17: =ROUND(J17*L17,2) -> 0
N18: =ROUND(J18*L18,2) -> 0
N19: =ROUND(J19*L19,2) -> 0
N20: =ROUND(J20*L20,2) -> 0
N21: =ROUND(J21*L21,2) -> 0
J22: Total Equipment Usage Costs: | N22: =SUM(N12:N21) -> 0
B24: Section B:
B25: Equipment Rentals Charged Against the Grant
B26: Check Number | D26: Date Used | F26: Description/Type of Equipment | H26: Budget Line Item Description | J26: Payee | N26: Amount
J34: Total Equipment Rental Costs: | N34: =SUM(N27:N33) -> 0
J38: TOTAL EQUIPMENT COSTS (A + B): | N38: =N22+N34 -> 0
